BEGIN:VCALENDAR
VERSION:2.0
PRODID:-//Southwest New Brunswick Service Commission - ECPv6.15.15//NONSGML v1.0//EN
CALSCALE:GREGORIAN
METHOD:PUBLISH
X-WR-CALNAME:Southwest New Brunswick Service Commission
X-ORIGINAL-URL:https://staging.rsc10.net
X-WR-CALDESC:Events for Southwest New Brunswick Service Commission
REFRESH-INTERVAL;VALUE=DURATION:PT1H
X-Robots-Tag:noindex
X-PUBLISHED-TTL:PT1H
BEGIN:VTIMEZONE
TZID:America/Moncton
BEGIN:DAYLIGHT
TZOFFSETFROM:-0400
TZOFFSETTO:-0300
TZNAME:ADT
DTSTART:20240310T060000
END:DAYLIGHT
BEGIN:STANDARD
TZOFFSETFROM:-0300
TZOFFSETTO:-0400
TZNAME:AST
DTSTART:20241103T050000
END:STANDARD
BEGIN:DAYLIGHT
TZOFFSETFROM:-0400
TZOFFSETTO:-0300
TZNAME:ADT
DTSTART:20250309T060000
END:DAYLIGHT
BEGIN:STANDARD
TZOFFSETFROM:-0300
TZOFFSETTO:-0400
TZNAME:AST
DTSTART:20251102T050000
END:STANDARD
BEGIN:DAYLIGHT
TZOFFSETFROM:-0400
TZOFFSETTO:-0300
TZNAME:ADT
DTSTART:20260308T060000
END:DAYLIGHT
BEGIN:STANDARD
TZOFFSETFROM:-0300
TZOFFSETTO:-0400
TZNAME:AST
DTSTART:20261101T050000
END:STANDARD
END:VTIMEZONE
BEGIN:VEVENT
DTSTART;TZID=America/Moncton:20251225T173000
DTEND;TZID=America/Moncton:20251225T190000
DTSTAMP:20260420T111850
CREATED:20251201T134834Z
LAST-MODIFIED:20251201T134834Z
UID:8868-1766683800-1766689200@staging.rsc10.net
SUMMARY:SNBSC Board Meeting
DESCRIPTION:
URL:https://staging.rsc10.net/event/snbsc-board-meeting/
END:VEVENT
BEGIN:VEVENT
DTSTART;TZID=America/Moncton:20251218T193000
DTEND;TZID=America/Moncton:20251218T203000
DTSTAMP:20260420T111850
CREATED:20251201T134732Z
LAST-MODIFIED:20251201T134732Z
UID:8864-1766086200-1766089800@staging.rsc10.net
SUMMARY:PRAC
DESCRIPTION:
URL:https://staging.rsc10.net/event/prac/
END:VEVENT
BEGIN:VEVENT
DTSTART;TZID=America/Moncton:20251211T173000
DTEND;TZID=America/Moncton:20251211T183000
DTSTAMP:20260420T111850
CREATED:20251201T134643Z
LAST-MODIFIED:20251201T134643Z
UID:8860-1765474200-1765477800@staging.rsc10.net
SUMMARY:Committee-of-the-whole
DESCRIPTION:
URL:https://staging.rsc10.net/event/committee-of-the-whole/
END:VEVENT
BEGIN:VEVENT
DTSTART;TZID=America/Moncton:20251210T160000
DTEND;TZID=America/Moncton:20251210T170000
DTSTAMP:20260420T111850
CREATED:20251201T134200Z
LAST-MODIFIED:20251201T134200Z
UID:8849-1765382400-1765386000@staging.rsc10.net
SUMMARY:Regional Economic Development Advisory Committee
DESCRIPTION:
URL:https://staging.rsc10.net/event/regional-economic-development-advisory-committee/
LOCATION:Zoom meeting
END:VEVENT
END:VCALENDAR